BEGIN:VCALENDAR
VERSION:2.0
PRODID:-//Radical Sports AG - ECPv6.15.20//NONSGML v1.0//EN
CALSCALE:GREGORIAN
METHOD:PUBLISH
X-WR-CALNAME:Radical Sports AG
X-ORIGINAL-URL:https://radical.swiss/en/
X-WR-CALDESC:Events for Radical Sports AG
REFRESH-INTERVAL;VALUE=DURATION:PT1H
X-Robots-Tag:noindex
X-PUBLISHED-TTL:PT1H
BEGIN:VTIMEZONE
TZID:Europe/Zurich
BEGIN:DAYLIGHT
TZOFFSETFROM:+0100
TZOFFSETTO:+0200
TZNAME:CEST
DTSTART:20240331T010000
END:DAYLIGHT
BEGIN:STANDARD
TZOFFSETFROM:+0200
TZOFFSETTO:+0100
TZNAME:CET
DTSTART:20241027T010000
END:STANDARD
BEGIN:DAYLIGHT
TZOFFSETFROM:+0100
TZOFFSETTO:+0200
TZNAME:CEST
DTSTART:20250330T010000
END:DAYLIGHT
BEGIN:STANDARD
TZOFFSETFROM:+0200
TZOFFSETTO:+0100
TZNAME:CET
DTSTART:20251026T010000
END:STANDARD
BEGIN:DAYLIGHT
TZOFFSETFROM:+0100
TZOFFSETTO:+0200
TZNAME:CEST
DTSTART:20260329T010000
END:DAYLIGHT
BEGIN:STANDARD
TZOFFSETFROM:+0200
TZOFFSETTO:+0100
TZNAME:CET
DTSTART:20261025T010000
END:STANDARD
END:VTIMEZONE
BEGIN:VEVENT
DTSTART;TZID=Europe/Zurich:20250112T081500
DTEND;TZID=Europe/Zurich:20250112T133000
DTSTAMP:20260425T181442
CREATED:20240917T164407Z
LAST-MODIFIED:20240917T164408Z
UID:242454-1736669700-1736688600@radical.swiss
SUMMARY:Snowboard carving course
DESCRIPTION:This course offers coaching and fun for alpine snowboarding enthusiasts.\nNo special level is required.\nHowever\, safe handling of the snowboard is a prerequisite.\nWhether you are a hardboot or softboot carver\, you are very welcome.\nRental equipment from Radical can also be provided for this course.\nHowever\, we do not rent hardboots and the corresponding bindings.\nIf you are interested\, please contact us in advance.\nThe course lasts from 08:30 – 10:30\, lunch\, 11:30 – 13:30. Price: 150.- excl.\nLiftticket Testboards: Take the chance and reserve a board at special conditions.\nWe recommend the Double XX or the Freecarver. Meeting point: Churwalden Panoramabahn ticket office Worth reading: Carving is back in fashion
URL:https://radical.swiss/en/tour/snowboard-carving-course/
LOCATION:Churwalden\, Panoramabahn\, Churwalden\, Graubünden\, Schweiz
CATEGORIES:Beginner-friendly,Technical courses
ATTACH;FMTTYPE=image/png:https://radical.swiss/wp-content/uploads/2018/09/carving-kurs-snowboard.png
ORGANIZER;CN="Andreas Rutz":MAILTO:a_rutz@yahoo.com
END:VEVENT
END:VCALENDAR